BEGIN:VCALENDAR
VERSION:2.0
PRODID:-//Retreat Camps - ECPv6.15.18//NONSGML v1.0//EN
CALSCALE:GREGORIAN
METHOD:PUBLISH
X-ORIGINAL-URL:https://retreat-camps.com
X-WR-CALDESC:Evenimente pentru Retreat Camps
REFRESH-INTERVAL;VALUE=DURATION:PT1H
X-Robots-Tag:noindex
X-PUBLISHED-TTL:PT1H
BEGIN:VTIMEZONE
TZID:Europe/Moscow
BEGIN:STANDARD
TZOFFSETFROM:+0300
TZOFFSETTO:+0300
TZNAME:MSK
DTSTART:20240101T000000
END:STANDARD
END:VTIMEZONE
BEGIN:VEVENT
DTSTART;TZID=Europe/Moscow:20250831T110000
DTEND;TZID=Europe/Moscow:20250831T200000
DTSTAMP:20260421T032018
CREATED:20240813T085452Z
LAST-MODIFIED:20251222T190515Z
UID:4348-1756638000-1756670400@retreat-camps.com
SUMMARY:Tabără pentru Adolescenți
DESCRIPTION:
URL:https://retreat-camps.com/eveniment/tabara-pentru-adolescenti/
CATEGORIES:Retreat de familii cu copii
ATTACH;FMTTYPE=image/jpeg:https://retreat-camps.com/wp-content/uploads/2024/08/Detalii-in-curand-1.jpg
END:VEVENT
END:VCALENDAR